BEGIN:VCALENDAR
VERSION:2.0
PRODID:-//Quartiersmanagement Badstraße - ECPv6.15.20//NONSGML v1.0//EN
CALSCALE:GREGORIAN
METHOD:PUBLISH
X-WR-CALNAME:Quartiersmanagement Badstraße
X-ORIGINAL-URL:https://www.badstrasse-quartier.de
X-WR-CALDESC:Veranstaltungen für Quartiersmanagement Badstraße
REFRESH-INTERVAL;VALUE=DURATION:PT1H
X-Robots-Tag:noindex
X-PUBLISHED-TTL:PT1H
BEGIN:VTIMEZONE
TZID:Europe/Berlin
BEGIN:DAYLIGHT
TZOFFSETFROM:+0100
TZOFFSETTO:+0200
TZNAME:CEST
DTSTART:20240331T010000
END:DAYLIGHT
BEGIN:STANDARD
TZOFFSETFROM:+0200
TZOFFSETTO:+0100
TZNAME:CET
DTSTART:20241027T010000
END:STANDARD
BEGIN:DAYLIGHT
TZOFFSETFROM:+0100
TZOFFSETTO:+0200
TZNAME:CEST
DTSTART:20250330T010000
END:DAYLIGHT
BEGIN:STANDARD
TZOFFSETFROM:+0200
TZOFFSETTO:+0100
TZNAME:CET
DTSTART:20251026T010000
END:STANDARD
BEGIN:DAYLIGHT
TZOFFSETFROM:+0100
TZOFFSETTO:+0200
TZNAME:CEST
DTSTART:20260329T010000
END:DAYLIGHT
BEGIN:STANDARD
TZOFFSETFROM:+0200
TZOFFSETTO:+0100
TZNAME:CET
DTSTART:20261025T010000
END:STANDARD
END:VTIMEZONE
BEGIN:VEVENT
DTSTART;VALUE=DATE:20250621
DTEND;VALUE=DATE:20250623
DTSTAMP:20260423T135805
CREATED:20250603T134508Z
LAST-MODIFIED:20250603T134508Z
UID:10000923-1750464000-1750636799@www.badstrasse-quartier.de
SUMMARY:Festival BODIES OF WATER
DESCRIPTION:Art Laboratory Berlin lädt ein zum zweitägigen Festival BODIES OF WATER\, das sich im Rahmen der BUA-Reihe ON WATER | PARCOURS mit Themen rund um urbane Wasserwege beschäftigt. Mit dem Art Science-Kollektiv DIY Hack the Panke und BUA-Wissenschaftler:innen aus den Bereichen Hydrologie und Medizin werden wir erkunden\, welche Formen ein urbaner Fluss annimmt und was in und an der Panke lebt. Es wird Workshops\, Walk & Talks\, Podiumsdiskussionen\, Performances und andere Aktivitäten für Teilnehmende aller Altersgruppen geben. \nBegeben wir uns auf eine multisensorische und transdisziplinäre Reise entlang eines der am schnellsten fließenden Gewässer Berlins! Lasst uns am 21. und 22. Juni zusammenkommen\, um uns unserer Verbundenheit mit dem Wasser\, den städtischen Wasserwegen und der Panke durch Lernen\, Bauen\, Spüren\, Gehen und Zuhören gewahr zu werden. \nTickets: https://www.eventbrite.de/e/bodies-of-water-tickets-1356134337309
URL:https://www.badstrasse-quartier.de/event/festival-bodies-of-water/
LOCATION:Prinzenallee 58\, Kulturzentrum Prinzenallee 58\, Berlin\, 13359
ATTACH;FMTTYPE=image/png:https://www.badstrasse-quartier.de/wp-content/uploads/sites/3/2025/06/ON-WATER-PARCOURS-BODIES-OF-WATER-2.png
END:VEVENT
END:VCALENDAR