BEGIN:VCALENDAR
VERSION:2.0
PRODID:-//Quartiersmanagement Badstraße - ECPv6.15.20//NONSGML v1.0//EN
CALSCALE:GREGORIAN
METHOD:PUBLISH
X-ORIGINAL-URL:https://www.badstrasse-quartier.de
X-WR-CALDESC:Veranstaltungen für Quartiersmanagement Badstraße
REFRESH-INTERVAL;VALUE=DURATION:PT1H
X-Robots-Tag:noindex
X-PUBLISHED-TTL:PT1H
BEGIN:VTIMEZONE
TZID:Europe/Berlin
BEGIN:DAYLIGHT
TZOFFSETFROM:+0100
TZOFFSETTO:+0200
TZNAME:CEST
DTSTART:20240331T010000
END:DAYLIGHT
BEGIN:STANDARD
TZOFFSETFROM:+0200
TZOFFSETTO:+0100
TZNAME:CET
DTSTART:20241027T010000
END:STANDARD
BEGIN:DAYLIGHT
TZOFFSETFROM:+0100
TZOFFSETTO:+0200
TZNAME:CEST
DTSTART:20250330T010000
END:DAYLIGHT
BEGIN:STANDARD
TZOFFSETFROM:+0200
TZOFFSETTO:+0100
TZNAME:CET
DTSTART:20251026T010000
END:STANDARD
BEGIN:DAYLIGHT
TZOFFSETFROM:+0100
TZOFFSETTO:+0200
TZNAME:CEST
DTSTART:20260329T010000
END:DAYLIGHT
BEGIN:STANDARD
TZOFFSETFROM:+0200
TZOFFSETTO:+0100
TZNAME:CET
DTSTART:20261025T010000
END:STANDARD
END:VTIMEZONE
BEGIN:VEVENT
DTSTART;TZID=Europe/Berlin:20250326T093000
DTEND;TZID=Europe/Berlin:20250326T123000
DTSTAMP:20260419T180334
CREATED:20250319T145358Z
LAST-MODIFIED:20250319T145358Z
UID:10000890-1742981400-1742992200@www.badstrasse-quartier.de
SUMMARY:Theaterworkshop zu Alltagsrassismus
DESCRIPTION:Gemeinsam mit dem Team des Ballhaus Prinzenallee lädt euch das NachbarschaftsCafé zu einem Theaterworkshop ein. In dem Workshop beschäftigen wir uns mit Alltagsrassismus. Ihr fragt euch\, was Alltagsrassismus ist? Dann kommt vorbei und wir versuchen\, zusammen herauszufinden wie Alltagsrassismus zu erkennen ist und was wir dagegen tun können. Das Angebot ist offen für alle und kostenlos.
URL:https://www.badstrasse-quartier.de/event/theaterworkshop-zu-alltagsrassismus/
LOCATION:NachbarschaftsEtage Fabrik Osloer Straße gGmbH\, Osloer Straße 12\, Berlin\, 13359
ATTACH;FMTTYPE=image/png:https://www.badstrasse-quartier.de/wp-content/uploads/sites/3/2025/03/Screenshot-2025-02-26-at-14-03-00-Aktuelles-Archiv-–-Demokratie-in-der-Mitte.png
ORGANIZER;CN="NachbarschaftsEtage Fabrik Osloer Stra%C3%9Fe":MAILTO:stk-osloer-strasse@berlin.de
END:VEVENT
END:VCALENDAR